BEGIN:VCALENDAR
VERSION:2.0
PRODID:-//WHITE IBIZA - ECPv6.6.0.2//NONSGML v1.0//EN
CALSCALE:GREGORIAN
METHOD:PUBLISH
X-ORIGINAL-URL:https://white-ibiza.com
X-WR-CALDESC:Events for WHITE IBIZA
REFRESH-INTERVAL;VALUE=DURATION:PT1H
X-Robots-Tag:noindex
X-PUBLISHED-TTL:PT1H
BEGIN:VTIMEZONE
TZID:Europe/Madrid
BEGIN:DAYLIGHT
TZOFFSETFROM:+0100
TZOFFSETTO:+0200
TZNAME:CEST
DTSTART:20240331T010000
END:DAYLIGHT
BEGIN:STANDARD
TZOFFSETFROM:+0200
TZOFFSETTO:+0100
TZNAME:CET
DTSTART:20241027T010000
END:STANDARD
END:VTIMEZONE
BEGIN:VEVENT
DTSTART;TZID=Europe/Madrid:20241025T080000
DTEND;TZID=Europe/Madrid:20241025T160000
DTSTAMP:20260423T185845
CREATED:20241021T110018Z
LAST-MODIFIED:20241021T110956Z
UID:10008571-1729843200-1729872000@white-ibiza.com
SUMMARY:Thank Heavens It’s Friday at The Olive Spa
DESCRIPTION:In today’s fast-paced\, highly connected world\, nurturing mind\, body and spirit is more important than ever\, which is precisely why The Spa at The Olive Ibiza exists. This serene oasis\, located in Cala Llonga\, offers a peaceful retreat where disconnecting from the outside world\, even for just a few blissful hours\, feels entirely possible. \nFrom 8am every Friday\, indulge in 90 minutes of luxurious spa time\, plus a glass of bubbles to savour afterwards\, all for 25€. Whether you’re looking for a mid-week reset or winding down before the weekend\, this tranquil experience at The Olive Spa at The Olive Ibiza is perfect for anyone needing a moment of peace. While pre-booking is recommended\, it’s not essential\, and the offer continues through the afternoon until 4pm\, giving you plenty of time to relax and recharge.
URL:https://white-ibiza.com/ibiza-calendar/2024-thank-heavens-its-friday-at-the-olive-spa/2024-10-25/
LOCATION:The Olive Ibiza\, Carrer des Munt Aconcagua\, Cala Llonga\, Islas Baleares\, 07849\, Spain
CATEGORIES:Wellness
ATTACH;FMTTYPE=image/jpeg:https://white-ibiza.com/wp-content/uploads/2024/10/white-ibiza-calendar-the-olive-spa-2024.jpeg
GEO:38.9517533;1.5167273
X-APPLE-STRUCTURED-LOCATION;VALUE=URI;X-ADDRESS=The Olive Ibiza Carrer des Munt Aconcagua Cala Llonga Islas Baleares 07849 Spain;X-APPLE-RADIUS=500;X-TITLE=Carrer des Munt Aconcagua:geo:1.5167273,38.9517533
END:VEVENT
BEGIN:VEVENT
DTSTART;TZID=Europe/Madrid:20241025T100000
DTEND;TZID=Europe/Madrid:20241025T200000
DTSTAMP:20260423T185845
CREATED:20241010T221755Z
LAST-MODIFIED:20241108T092041Z
UID:10008333-1729850400-1729886400@white-ibiza.com
SUMMARY:Desde Los Orígenes Eduardo Chillida Belzunce Exhibition at Estudio Laterna
DESCRIPTION:Estudio Laterna invites you to explore the world of Eduardo Chillida Belzuncein Desde Los Orígenes. This solo exhibition delves into the intersection of light\, space and introspection\, with Chillida Belzunce meticulously layering vibrant colours and abstract forms to create works that are both profound and transformative. \nThis latest collection features a stunning mix of abstract paintings\, sculptures and figurative pieces. Curated by Andrea Sánchez in collaboration with Susana Álvarez San Martín\, the exhibition offers a unique glimpse into the artist’s evolving creative journey in Santa Gertrudis’ most stylish gallery space.
URL:https://white-ibiza.com/ibiza-calendar/2024-desde-los-origenes-eduardo-chillida-belzunce-exhibition-at-estudio-laterna/2024-10-25/
LOCATION:Estudio Laterna\, Carrer Vénda de Parada\, Santa Gertrudis de Fruitera\, Islas Baleares\, 07814\, Spain
CATEGORIES:Culture
ATTACH;FMTTYPE=image/jpeg:https://white-ibiza.com/wp-content/uploads/2024/10/white-ibiza-calendar-estudio-laterna-los-originese-exhibition-2024-1.jpeg
GEO:38.9988683;1.4283884
X-APPLE-STRUCTURED-LOCATION;VALUE=URI;X-ADDRESS=Estudio Laterna Carrer Vénda de Parada Santa Gertrudis de Fruitera Islas Baleares 07814 Spain;X-APPLE-RADIUS=500;X-TITLE=Carrer Vénda de Parada:geo:1.4283884,38.9988683
END:VEVENT
BEGIN:VEVENT
DTSTART;TZID=Europe/Madrid:20241025T110000
DTEND;TZID=Europe/Madrid:20241025T235900
DTSTAMP:20260423T185845
CREATED:20240909T204907Z
LAST-MODIFIED:20240910T115641Z
UID:10007307-1729854000-1729900740@white-ibiza.com
SUMMARY:Photography Exhibition: Ibiza Life by Sofia Gomez Fonzo at In-Between Ibiza
DESCRIPTION:Talented island photographer Sofia Gomez Fonzo – whose stunning work is often featured across the pages of White Ibiza – presents her debut photography exhibition\, Ibiza Life\, at In-Between Ibiza. The chic gallery space is located at the top of the rampart entrance to Dalt Vila and invites both art and Ibiza lovers to view the exhibition from 11am until midnight from Monday to Saturday until the end of October. \nThese late summer months are perfect for putting aside time to immerse yourself into Sofia’s world. Her timeless collection of analog and digital photographs capture the everyday beauty of the island\, its magic and allure\, its nature and light\, all with an artistic eye for detail. We might be biased (with good reason!)\, but these images show the white isle at its most spectacular\, and are well worth a viewing. You can even snap one up and take it home with you (either in your luggage or or have it shipped) to remind you of Ibiza\, wherever you may be in the world. \nREAD MORE ABOUT IN-BETWEEN IBIZA ON WHITE IBIZA \nFIND OUT MORE ABOUT IN-BETWEEN IBIZA
URL:https://white-ibiza.com/ibiza-calendar/2024-photography-exhibition-ibiza-life-by-sofia-gomez-fonzo-at-in-between-ibiza/2024-10-25/
LOCATION:In-Between Ibiza\, Plaça de Vila\, Eivissa\, Islas Baleares\, 07800\, Spain
CATEGORIES:Culture
ATTACH;FMTTYPE=image/jpeg:https://white-ibiza.com/wp-content/uploads/2024/09/white-ibiza-calendar-in-between-ibiza-sofia-gomez-fonzo-ibiza-life-exhibition-2024.jpeg
GEO:38.9080983;1.4361908
X-APPLE-STRUCTURED-LOCATION;VALUE=URI;X-ADDRESS=In-Between Ibiza Plaça de Vila Eivissa Islas Baleares 07800 Spain;X-APPLE-RADIUS=500;X-TITLE=Plaça de Vila:geo:1.4361908,38.9080983
END:VEVENT
BEGIN:VEVENT
DTSTART;TZID=Europe/Madrid:20241025T180000
DTEND;TZID=Europe/Madrid:20241025T220000
DTSTAMP:20260423T185845
CREATED:20241018T135853Z
LAST-MODIFIED:20241018T135853Z
UID:10008501-1729879200-1729893600@white-ibiza.com
SUMMARY:La Fundación Ses Dotze Naus presents “6” by Andrés Izquierdo & Cristina Stolhe at La Carpintería
DESCRIPTION:Concluding their summer residency at La Fundación Ses Dotze Naus\, photographer Cristina Stolhe and ceramicist Andrés Izquierdo present “6” – a new exhibition at the foundation’s art space\, La Carpintería\, in Can Bufí. Their collaborative work invites viewers to explore Ibiza through a mix of bold sculptures and strong imagery\, offering an evocative interpretation of the island. \nStolhe’s photographs complement Izquierdo’s sculptures by weaving a narrative that traverses key locations on the island\, delving into themes of absence\, history\, and the night. The Necrópolis of Puig des Molins\, secret caves\, the cemetery of Formentera and folkloric festivals are just a few of the notable moments and places anchoring the show to create a dialogue between the past\, future and present.
URL:https://white-ibiza.com/ibiza-calendar/la-fundacion-ses-dotze-naus-presents-6-by-andres-izquierdo-cristina-stolhe-at-la-carpinteria/2024-10-25/
LOCATION:La Carpintería\, Carrer Riu Arno\, Santa Eulalia del Río\, Islas Baleares\, 07800\, Spain
CATEGORIES:Culture
ATTACH;FMTTYPE=image/jpeg:https://white-ibiza.com/wp-content/uploads/2024/10/white-ibiza-calendar-ses-dotze-naus-6-2024.jpg
GEO:38.9242929;1.4196274
X-APPLE-STRUCTURED-LOCATION;VALUE=URI;X-ADDRESS=La Carpintería Carrer Riu Arno Santa Eulalia del Río Islas Baleares 07800 Spain;X-APPLE-RADIUS=500;X-TITLE=Carrer Riu Arno:geo:1.4196274,38.9242929
END:VEVENT
BEGIN:VEVENT
DTSTART;TZID=Europe/Madrid:20241025T180000
DTEND;TZID=Europe/Madrid:20241025T230000
DTSTAMP:20260423T185845
CREATED:20241018T142240Z
LAST-MODIFIED:20241018T142431Z
UID:10008552-1729879200-1729897200@white-ibiza.com
SUMMARY:Infinity Garden Exhibition by Emilie Clarke at In-Between Ibiza
DESCRIPTION:New York-based artist Emilie Clark presents Infinity Garden\, an exhibition featuring her latest watercolours\, at In-Between Ibiza. Situated at the rampart entrance to Dalt Vila\, this chic gallery space offers visitors the chance to explore Clark’s emotive collection from 6pm to 11pm\, Mondays to Saturdays\, until the end of October 2024. \nAs autumn arrives\, it’s the perfect moment to set aside time for creative exploration and Emilie’s work unveils the often unnoticed yet intricate beauty of our surroundings. Her watercolours dive into hidden worlds closely observed\, inviting viewers to explore the mysterious\, fluid spaces beyond our everyday perception.
URL:https://white-ibiza.com/ibiza-calendar/2024-infinity-garden-exhibition-by-emilie-clarke-at-in-between-ibiza/2024-10-25/
LOCATION:In-Between Ibiza\, Plaça de Vila\, Eivissa\, Islas Baleares\, 07800\, Spain
CATEGORIES:Culture
ATTACH;FMTTYPE=image/jpeg:https://white-ibiza.com/wp-content/uploads/2024/10/white-ibiza-calendar-in-between-gallery-emilie-clark-2024.jpeg
GEO:38.9080983;1.4361908
X-APPLE-STRUCTURED-LOCATION;VALUE=URI;X-ADDRESS=In-Between Ibiza Plaça de Vila Eivissa Islas Baleares 07800 Spain;X-APPLE-RADIUS=500;X-TITLE=Plaça de Vila:geo:1.4361908,38.9080983
END:VEVENT
BEGIN:VEVENT
DTSTART;TZID=Europe/Madrid:20241025T210000
DTEND;TZID=Europe/Madrid:20241025T230000
DTSTAMP:20260423T185845
CREATED:20241010T230018Z
LAST-MODIFIED:20241010T230018Z
UID:10008474-1729890000-1729897200@white-ibiza.com
SUMMARY:Tiki Time at Paradise Lost
DESCRIPTION:While every hour spent at Paradise Lost is a happy one\, the two hours between 9pm and 11pm are particularly pleasing for those in the know. Ibiza’s most beloved drinking den\, tucked away in the heart of Sa Penya\, has introduced Tiki Time – a two-hour window where a selection of Captain Jimmy’s finest cocktail concoctions are available at the two-for-one pricetag of just 12.50€. \nSip on signature drinks like the Paradise Punch\, Saturn\, Molly’s Margarita\, La CABORCA\, Passionfruit Cooler or Kentucky BeachComber. It’s the perfect pre-dinner or pre-club aperitif for cocktail aficionados – or could it be double trouble? Twice the excuse to visit our favourite watering hole!
URL:https://white-ibiza.com/ibiza-calendar/tiki-time-at-paradise-lost/2024-10-25/
LOCATION:Paradise Lost\, Carrer del Passadís\, Eivissa\, Islas Baleares\, 07800\, Spain
CATEGORIES:Foodies,Clubs
ATTACH;FMTTYPE=image/jpeg:https://white-ibiza.com/wp-content/uploads/2024/03/white-ibiza-bars-paradise-lost-04.jpg
GEO:38.9088959;1.4375767
X-APPLE-STRUCTURED-LOCATION;VALUE=URI;X-ADDRESS=Paradise Lost Carrer del Passadís Eivissa Islas Baleares 07800 Spain;X-APPLE-RADIUS=500;X-TITLE=Carrer del Passadís:geo:1.4375767,38.9088959
END:VEVENT
END:VCALENDAR