BEGIN:VCALENDAR
VERSION:2.0
PRODID:-//WHITE IBIZA - ECPv6.6.0.2//NONSGML v1.0//EN
CALSCALE:GREGORIAN
METHOD:PUBLISH
X-WR-CALNAME:WHITE IBIZA
X-ORIGINAL-URL:https://white-ibiza.com
X-WR-CALDESC:Events for WHITE IBIZA
REFRESH-INTERVAL;VALUE=DURATION:PT1H
X-Robots-Tag:noindex
X-PUBLISHED-TTL:PT1H
BEGIN:VTIMEZONE
TZID:Europe/Madrid
BEGIN:DAYLIGHT
TZOFFSETFROM:+0100
TZOFFSETTO:+0200
TZNAME:CEST
DTSTART:20240331T010000
END:DAYLIGHT
BEGIN:STANDARD
TZOFFSETFROM:+0200
TZOFFSETTO:+0100
TZNAME:CET
DTSTART:20241027T010000
END:STANDARD
END:VTIMEZONE
BEGIN:VEVENT
DTSTART;TZID=Europe/Madrid:20241013T130000
DTEND;TZID=Europe/Madrid:20241016T180000
DTSTAMP:20260425T135522
CREATED:20241010T210442Z
LAST-MODIFIED:20241010T210442Z
UID:10007683-1728824400-1729101600@white-ibiza.com
SUMMARY:Bottomless Brunch at Roca House
DESCRIPTION:‘Your glass is always full\, and your table filled with food.’ That’s how Roca Llisaclubhouse\, Roca House\, describes its newly launched Bottomless Brunch – taking place every Sunday from 1pm until 6pm. Make a reservation for a spot and wherever you place your cup\, whether soaking up the rays on a brightly coloured daybed or nestled into a cosy shaded table inside the restaurant\, it will be sure to run over. \nThis cool and inviting island gem has had tongues wagging since opening midway through the season this year\, and now\, as we head into autumn\, it’s time for locals to enjoy the full experience. Set among the peaceful environs of Ibiza’s only golf course\, it’s an ideal destination for a long and leisurely Sunday afternoon\, with delicious Mediterranean cuisine plus cocktails\, mocktails\, kombucha or champagne – there’s something to satisfy everyone’s taste here. Monday can wait!
URL:https://white-ibiza.com/ibiza-calendar/2024-bottomless-brunch-at-roca-house/2024-10-13/
LOCATION:Roca House\, Roca Llisa\, Islas Baleares\, 07819\, Spain
CATEGORIES:Foodies
GEO:38.9318164;1.4960571
END:VEVENT
BEGIN:VEVENT
DTSTART;TZID=Europe/Madrid:20241015T070000
DTEND;TZID=Europe/Madrid:20241015T110000
DTSTAMP:20260425T135522
CREATED:20241010T220340Z
LAST-MODIFIED:20241010T220340Z
UID:10008286-1728975600-1728990000@white-ibiza.com
SUMMARY:Breakfast and Pool at Cuyo Ibiza at Hyde Ibiza
DESCRIPTION:Flop down on a sunbed to dry off after a refreshing morning dip in the sparkling Hyde Ibiza swimming pool before heading towards the luscious breakfast buffet at in-house restaurant Cuyo Ibiza. \nTake in the stunning view while munching on fresh fruits\, pancakes\, charcuterie and a selection of baked goods\, topped off with eggs-anyway and expertly brewed coffee. The breakfast spread is available from 7am to 11am every day and the 85€ morning pass includes access to the pool\, towels and a 50€ food and beverage voucher to make your poolside experience even more delightful.
URL:https://white-ibiza.com/ibiza-calendar/2024-breakfast-and-pool-at-cuyo-ibiza-at-hyde-ibiza/2024-10-15/
LOCATION:Hyde Ibiza\, Cala Llonga\, Islas Baleares\, 07849\, Spain
CATEGORIES:Wellness,Foodies
ATTACH;FMTTYPE=image/jpeg:https://white-ibiza.com/wp-content/uploads/2024/07/white-ibiza-beach-restaurants-hyde-beach-2024-10.jpg
GEO:38.9557105;1.514811
END:VEVENT
BEGIN:VEVENT
DTSTART;TZID=Europe/Madrid:20241015T090000
DTEND;TZID=Europe/Madrid:20241015T113000
DTSTAMP:20260425T135522
CREATED:20241010T214604Z
LAST-MODIFIED:20241010T214605Z
UID:10008241-1728982800-1728991800@white-ibiza.com
SUMMARY:Yoga and Breakfast at Hyde Ibiza
DESCRIPTION:Kickstart your Tuesdays and Thursdays with a rejuvenating yoga session at the effortlessly cool Hyde Ibiza in Cala Llonga. Stretch out on the mat by the pool to inhale and exhale with stunning views across the beach and bay before heading inside for a gourmet buffet breakfast. \nExpect fresh juices\, excellent coffees\, fresh fruits\, pancakes\, cold cuts\, and eggs just how you like them. Yoga and brekkie comes in at 45€ for a perfect blend of wellness and indulgence\, set against the backdrop of Ibiza’s stunning coastline.
URL:https://white-ibiza.com/ibiza-calendar/2024-yoga-and-breakfast-at-hyde-ibiza-2/2024-10-15/
LOCATION:Hyde Ibiza\, Cala Llonga\, Islas Baleares\, 07849\, Spain
CATEGORIES:Wellness
ATTACH;FMTTYPE=image/jpeg:https://white-ibiza.com/wp-content/uploads/2024/07/white-ibiza-beach-restaurants-hyde-beach-2024-01.jpg
GEO:38.9557105;1.514811
END:VEVENT
BEGIN:VEVENT
DTSTART;TZID=Europe/Madrid:20241015T100000
DTEND;TZID=Europe/Madrid:20241015T200000
DTSTAMP:20260425T135522
CREATED:20241010T221755Z
LAST-MODIFIED:20241108T092041Z
UID:10008323-1728986400-1729022400@white-ibiza.com
SUMMARY:Desde Los Orígenes Eduardo Chillida Belzunce Exhibition at Estudio Laterna
DESCRIPTION:Estudio Laterna invites you to explore the world of Eduardo Chillida Belzuncein Desde Los Orígenes. This solo exhibition delves into the intersection of light\, space and introspection\, with Chillida Belzunce meticulously layering vibrant colours and abstract forms to create works that are both profound and transformative. \nThis latest collection features a stunning mix of abstract paintings\, sculptures and figurative pieces. Curated by Andrea Sánchez in collaboration with Susana Álvarez San Martín\, the exhibition offers a unique glimpse into the artist’s evolving creative journey in Santa Gertrudis’ most stylish gallery space.
URL:https://white-ibiza.com/ibiza-calendar/2024-desde-los-origenes-eduardo-chillida-belzunce-exhibition-at-estudio-laterna/2024-10-15/
LOCATION:Estudio Laterna\, Carrer Vénda de Parada\, Santa Gertrudis de Fruitera\, Islas Baleares\, 07814\, Spain
CATEGORIES:Culture
ATTACH;FMTTYPE=image/jpeg:https://white-ibiza.com/wp-content/uploads/2024/10/white-ibiza-calendar-estudio-laterna-los-originese-exhibition-2024-1.jpeg
GEO:38.9988683;1.4283884
X-APPLE-STRUCTURED-LOCATION;VALUE=URI;X-ADDRESS=Estudio Laterna Carrer Vénda de Parada Santa Gertrudis de Fruitera Islas Baleares 07814 Spain;X-APPLE-RADIUS=500;X-TITLE=Carrer Vénda de Parada:geo:1.4283884,38.9988683
END:VEVENT
BEGIN:VEVENT
DTSTART;TZID=Europe/Madrid:20241015T110000
DTEND;TZID=Europe/Madrid:20241015T235900
DTSTAMP:20260425T135522
CREATED:20240909T204907Z
LAST-MODIFIED:20240910T115641Z
UID:10007298-1728990000-1729036740@white-ibiza.com
SUMMARY:Photography Exhibition: Ibiza Life by Sofia Gomez Fonzo at In-Between Ibiza
DESCRIPTION:Talented island photographer Sofia Gomez Fonzo – whose stunning work is often featured across the pages of White Ibiza – presents her debut photography exhibition\, Ibiza Life\, at In-Between Ibiza. The chic gallery space is located at the top of the rampart entrance to Dalt Vila and invites both art and Ibiza lovers to view the exhibition from 11am until midnight from Monday to Saturday until the end of October. \nThese late summer months are perfect for putting aside time to immerse yourself into Sofia’s world. Her timeless collection of analog and digital photographs capture the everyday beauty of the island\, its magic and allure\, its nature and light\, all with an artistic eye for detail. We might be biased (with good reason!)\, but these images show the white isle at its most spectacular\, and are well worth a viewing. You can even snap one up and take it home with you (either in your luggage or or have it shipped) to remind you of Ibiza\, wherever you may be in the world. \nREAD MORE ABOUT IN-BETWEEN IBIZA ON WHITE IBIZA \nFIND OUT MORE ABOUT IN-BETWEEN IBIZA
URL:https://white-ibiza.com/ibiza-calendar/2024-photography-exhibition-ibiza-life-by-sofia-gomez-fonzo-at-in-between-ibiza/2024-10-15/
LOCATION:In-Between Ibiza\, Plaça de Vila\, Eivissa\, Islas Baleares\, 07800\, Spain
CATEGORIES:Culture
ATTACH;FMTTYPE=image/jpeg:https://white-ibiza.com/wp-content/uploads/2024/09/white-ibiza-calendar-in-between-ibiza-sofia-gomez-fonzo-ibiza-life-exhibition-2024.jpeg
GEO:38.9080983;1.4361908
X-APPLE-STRUCTURED-LOCATION;VALUE=URI;X-ADDRESS=In-Between Ibiza Plaça de Vila Eivissa Islas Baleares 07800 Spain;X-APPLE-RADIUS=500;X-TITLE=Plaça de Vila:geo:1.4361908,38.9080983
END:VEVENT
BEGIN:VEVENT
DTSTART;TZID=Europe/Madrid:20241015T180000
DTEND;TZID=Europe/Madrid:20241015T230000
DTSTAMP:20260425T135522
CREATED:20241018T142240Z
LAST-MODIFIED:20241018T142431Z
UID:10008542-1729015200-1729033200@white-ibiza.com
SUMMARY:Infinity Garden Exhibition by Emilie Clarke at In-Between Ibiza
DESCRIPTION:New York-based artist Emilie Clark presents Infinity Garden\, an exhibition featuring her latest watercolours\, at In-Between Ibiza. Situated at the rampart entrance to Dalt Vila\, this chic gallery space offers visitors the chance to explore Clark’s emotive collection from 6pm to 11pm\, Mondays to Saturdays\, until the end of October 2024. \nAs autumn arrives\, it’s the perfect moment to set aside time for creative exploration and Emilie’s work unveils the often unnoticed yet intricate beauty of our surroundings. Her watercolours dive into hidden worlds closely observed\, inviting viewers to explore the mysterious\, fluid spaces beyond our everyday perception.
URL:https://white-ibiza.com/ibiza-calendar/2024-infinity-garden-exhibition-by-emilie-clarke-at-in-between-ibiza/2024-10-15/
LOCATION:In-Between Ibiza\, Plaça de Vila\, Eivissa\, Islas Baleares\, 07800\, Spain
CATEGORIES:Culture
ATTACH;FMTTYPE=image/jpeg:https://white-ibiza.com/wp-content/uploads/2024/10/white-ibiza-calendar-in-between-gallery-emilie-clark-2024.jpeg
GEO:38.9080983;1.4361908
X-APPLE-STRUCTURED-LOCATION;VALUE=URI;X-ADDRESS=In-Between Ibiza Plaça de Vila Eivissa Islas Baleares 07800 Spain;X-APPLE-RADIUS=500;X-TITLE=Plaça de Vila:geo:1.4361908,38.9080983
END:VEVENT
BEGIN:VEVENT
DTSTART;TZID=Europe/Madrid:20241015T210000
DTEND;TZID=Europe/Madrid:20241015T230000
DTSTAMP:20260425T135522
CREATED:20241010T230018Z
LAST-MODIFIED:20241010T230018Z
UID:10008464-1729026000-1729033200@white-ibiza.com
SUMMARY:Tiki Time at Paradise Lost
DESCRIPTION:While every hour spent at Paradise Lost is a happy one\, the two hours between 9pm and 11pm are particularly pleasing for those in the know. Ibiza’s most beloved drinking den\, tucked away in the heart of Sa Penya\, has introduced Tiki Time – a two-hour window where a selection of Captain Jimmy’s finest cocktail concoctions are available at the two-for-one pricetag of just 12.50€. \nSip on signature drinks like the Paradise Punch\, Saturn\, Molly’s Margarita\, La CABORCA\, Passionfruit Cooler or Kentucky BeachComber. It’s the perfect pre-dinner or pre-club aperitif for cocktail aficionados – or could it be double trouble? Twice the excuse to visit our favourite watering hole!
URL:https://white-ibiza.com/ibiza-calendar/tiki-time-at-paradise-lost/2024-10-15/
LOCATION:Paradise Lost\, Carrer del Passadís\, Eivissa\, Islas Baleares\, 07800\, Spain
CATEGORIES:Foodies,Clubs
ATTACH;FMTTYPE=image/jpeg:https://white-ibiza.com/wp-content/uploads/2024/03/white-ibiza-bars-paradise-lost-04.jpg
GEO:38.9088959;1.4375767
X-APPLE-STRUCTURED-LOCATION;VALUE=URI;X-ADDRESS=Paradise Lost Carrer del Passadís Eivissa Islas Baleares 07800 Spain;X-APPLE-RADIUS=500;X-TITLE=Carrer del Passadís:geo:1.4375767,38.9088959
END:VEVENT
BEGIN:VEVENT
DTSTART;VALUE=DATE:20241016
DTEND;VALUE=DATE:20241017
DTSTAMP:20260425T135522
CREATED:20241010T220929Z
LAST-MODIFIED:20241010T221011Z
UID:10008297-1729036800-1729123199@white-ibiza.com
SUMMARY:Cala Llonga Hike & Pool at Hyde Ibiza
DESCRIPTION:Now’s the perfect time to discover Ibiza’s epic hiking trails. Set out from Hyde Ibiza and venture into the lush forests of Cala Llonga with a guided hike\, taking in the areas stunning views. After your adventure\, relax by the luxury resort’s sparkling swimming pool with a sunbed reserved just for you\, sipping on refreshing drinks and indulging in delicious bites. \nThe experiences costs 85€ per person\, and includes both the hike and a 50€ food and drink credit\, making it the ultimate
URL:https://white-ibiza.com/ibiza-calendar/2024-cala-llonga-hike-pool-at-hyde-ibiza/2024-10-16/
LOCATION:Hyde Ibiza\, Cala Llonga\, Islas Baleares\, 07849\, Spain
CATEGORIES:Wellness
ATTACH;FMTTYPE=image/jpeg:https://white-ibiza.com/wp-content/uploads/2024/07/white-ibiza-beach-restaurants-hyde-beach-2024-05.jpg
GEO:38.9557105;1.514811
END:VEVENT
END:VCALENDAR