BEGIN:VCALENDAR
VERSION:2.0
PRODID:-//WHITE IBIZA - ECPv6.6.0.2//NONSGML v1.0//EN
CALSCALE:GREGORIAN
METHOD:PUBLISH
X-ORIGINAL-URL:https://white-ibiza.com
X-WR-CALDESC:Events for WHITE IBIZA
REFRESH-INTERVAL;VALUE=DURATION:PT1H
X-Robots-Tag:noindex
X-PUBLISHED-TTL:PT1H
BEGIN:VTIMEZONE
TZID:Europe/Madrid
BEGIN:DAYLIGHT
TZOFFSETFROM:+0100
TZOFFSETTO:+0200
TZNAME:CEST
DTSTART:20240331T010000
END:DAYLIGHT
BEGIN:STANDARD
TZOFFSETFROM:+0200
TZOFFSETTO:+0100
TZNAME:CET
DTSTART:20241027T010000
END:STANDARD
END:VTIMEZONE
BEGIN:VEVENT
DTSTART;TZID=Europe/Madrid:20240728T190000
DTEND;TZID=Europe/Madrid:20240729T060000
DTSTAMP:20260425T171339
CREATED:20240726T224836Z
LAST-MODIFIED:20240726T224836Z
UID:10000172-1722193200-1722232800@white-ibiza.com
SUMMARY:WooMooN at Cova Santa
DESCRIPTION:Description: Ibiza’s genre-defying\, experimental celebration that is WooMooN\, takes over Sundays at the open-air venue Cova Santa\, in the hills outside of San José. Beginning at 7pm\, this enchanting daytime party offers a magical blend of performances\, music\, and art.  \nDance your way through the lush garden terraces\, stop for a MICHELIN-quality gastronomic snack in the restaurant\, and then on to the intimate nightclub that hosts some of the island’s most avant-garde events. This year’s theme is Origen and the primordial mystery of our being  and there’s no finer place to connect to your astral roots than at Cova Santa on a WooMooN journey. \nBOOK TICKETS & VIP TABLES FOR WOOMOON AT COVA SANTA \n 
URL:https://white-ibiza.com/ibiza-calendar/woomoon-at-cova-santa/2024-07-28/
LOCATION:Cova Santa\, Carretera San Jose\, San José\, Islas Baleares\, 07817\, Spain
CATEGORIES:Clubs
ATTACH;FMTTYPE=image/jpeg:https://white-ibiza.com/wp-content/uploads/2024/07/white-ibiza-calendar-woomoon-cova-santa-2024.jpeg
GEO:38.9037192;1.4069384
X-APPLE-STRUCTURED-LOCATION;VALUE=URI;X-ADDRESS=Cova Santa Carretera San Jose San José Islas Baleares 07817 Spain;X-APPLE-RADIUS=500;X-TITLE=Carretera San Jose:geo:1.4069384,38.9037192
END:VEVENT
BEGIN:VEVENT
DTSTART;TZID=Europe/Madrid:20240728T230000
DTEND;TZID=Europe/Madrid:20240729T060000
DTSTAMP:20260425T171339
CREATED:20240726T155511Z
LAST-MODIFIED:20240802T142348Z
UID:10000078-1722207600-1722232800@white-ibiza.com
SUMMARY:Pyramid Amnesia Ibiza at Amnesia Ibiza
DESCRIPTION:Amnesia Ibiza’s flagship in-house night Pyramid is back for 2024 with its signature line-up of cutting-edge DJs and artists\, plus the same anything-goes ethos every Sunday night. \nNo flash and no gimmicks\, this is a true music fan’s dream\, as DJs such as Ricardo Villalobos\, Nina Kraviz\, Luciano\, Marco Faraone\, Charlotte De Witte\, Deborah De Luca and Luca Donzelli rotate around an assortment of other legendary guests for a season brimming with collaborations and community. The San Rafael warehouse space on the road between Ibiza and San Antonio is a cavernous wonderland that has become synonymous with some of the best Ibiza parties of recent years\, so Sundays are sure to be another roadblock this year. Get your tickets and table requests in early to avoid disappointment. \nREAD MORE ABOUT AMNESIA IBIZA ON WHITE IBIZA \nBUY TICKETS OR VIP TABLES FOR PYRAMID AT AMNESIA IBIZA
URL:https://white-ibiza.com/ibiza-calendar/pyramid-amnesia-ibiza-at-amnesia-ibiza/2024-07-28/
LOCATION:Amnesia Ibiza\, Carretera Ibiza a San Antonio\, San Rafael\, Islas Baleares\, 07830\, Spain
CATEGORIES:Clubs
ATTACH;FMTTYPE=image/jpeg:https://white-ibiza.com/wp-content/uploads/2024/07/white-ibiza-calendar-amnesia-pyramid-2024.jpg
GEO:38.9215354;1.3028057
X-APPLE-STRUCTURED-LOCATION;VALUE=URI;X-ADDRESS=Amnesia Ibiza Carretera Ibiza a San Antonio San Rafael Islas Baleares 07830 Spain;X-APPLE-RADIUS=500;X-TITLE=Carretera Ibiza a San Antonio:geo:1.3028057,38.9215354
END:VEVENT
BEGIN:VEVENT
DTSTART;TZID=Europe/Madrid:20240728T233000
DTEND;TZID=Europe/Madrid:20240729T060000
DTSTAMP:20260425T171339
CREATED:20240726T220127Z
LAST-MODIFIED:20240729T163020Z
UID:10000122-1722209400-1722232800@white-ibiza.com
SUMMARY:Franky Wah presents SHÈN at Club Chinois
DESCRIPTION:One of electronica’s hottest new names\, Franky Wah\, returns to Club Chinois for his ground-breaking Ibiza residency\, SHÈN every Sunday night this summer Joined by regular guests including Hernán Cattáneo\, Sasha & John Digweed\, Hot Since 82\, Joris Voorn\, Pete Tong\, Shimza and Miss Monique\, this is a star-Sunday night in the heart of Ibiza’s glitzy Marina district. \nWith a reputation for an immersive clubbing experience\, impressive residencies\, unexpected guest appearances\, cutting-edge sensory projections\, and a state-of-the-art interactive VIP corridor\, Club Chinois continues to set the bar high\, and is the perfect destination when you are in the mood for a little bit of grown-up hedonism. \nREAD MORE ABOUT CLUB CHINOIS ON WHITE IBIZA \nBUY TICKETS & VIP TABLES FOR FRANKY WAH PRESENTS SHÈN AT CLUB CHINOIS
URL:https://white-ibiza.com/ibiza-calendar/franky-wah-presents-shen-at-club-chinois/2024-07-28/
LOCATION:Club Chinois\, Passeig Joan Carles I\, Eivissa\, Islas Baleares\, 07800\, Spain
CATEGORIES:Clubs
ATTACH;FMTTYPE=image/jpeg:https://white-ibiza.com/wp-content/uploads/2024/07/white-ibiza-club-calendar-franky-wah-shen-club-chinois-2024.jpeg
GEO:38.9166558;1.4418039
X-APPLE-STRUCTURED-LOCATION;VALUE=URI;X-ADDRESS=Club Chinois Passeig Joan Carles I Eivissa Islas Baleares 07800 Spain;X-APPLE-RADIUS=500;X-TITLE=Passeig Joan Carles I:geo:1.4418039,38.9166558
END:VEVENT
BEGIN:VEVENT
DTSTART;TZID=Europe/Madrid:20240728T233000
DTEND;TZID=Europe/Madrid:20240729T060000
DTSTAMP:20260425T171339
CREATED:20240727T001307Z
LAST-MODIFIED:20240727T001307Z
UID:10000264-1722209400-1722232800@white-ibiza.com
SUMMARY:Glitterbox at Hï Ibiza
DESCRIPTION:Glitz\, glamour and handbag house ‘til dawn\, Glitterbox is all your guilty pleasures tied up with a spectacularly sparkly bow. Dig out your disco boots\, slap on the shimmer and get ready to dazzle that dancefloor all night long.  \nThe absolute best house and classic dance anthems are the order of Sunday night at Hï Ibiza\, along with an inclusive crowd\, the sassiest of performers and some big-name guests reliving their hands-in-the-air days as the Playa d’en Bossa superclub is transformed into a disco heaven with a soundtrack it’s impossible not to sing along to. \nREAD MORE ABOUT HÏ IBIZA ON WHITE IBIZA \nBOOK VIP TABLES & TICKETS FOR GLITTERBOX AT HÏ IBIZA
URL:https://white-ibiza.com/ibiza-calendar/glitterbox-at-hi-ibiza/2024-07-28/
LOCATION:Hï Ibiza\, Platja d'en Bossa\, San Jorge de ses Salines\, Islas Baleares\, 07800\, Spain
CATEGORIES:Clubs
ATTACH;FMTTYPE=image/jpeg:https://white-ibiza.com/wp-content/uploads/2024/07/white-ibiza-club-calendar-glitterbox-hi-ibiza-2024.jpeg
GEO:38.8840273;1.4059791
X-APPLE-STRUCTURED-LOCATION;VALUE=URI;X-ADDRESS=Hï Ibiza Platja d'en Bossa San Jorge de ses Salines Islas Baleares 07800 Spain;X-APPLE-RADIUS=500;X-TITLE=Platja d'en Bossa:geo:1.4059791,38.8840273
END:VEVENT
BEGIN:VEVENT
DTSTART;TZID=Europe/Madrid:20240728T235900
DTEND;TZID=Europe/Madrid:20240729T060000
DTSTAMP:20260425T171339
CREATED:20240727T005337Z
LAST-MODIFIED:20240727T005337Z
UID:10000326-1722211140-1722232800@white-ibiza.com
SUMMARY:Solomun +1 at Pacha Ibiza
DESCRIPTION:For over a decade in Ibiza’s longest running nightclub\, Pacha Ibiza\, German-Croatian DJ and producer Solomun has been wowing the crowds with his ground-breaking Solomun +1 Sunday night residency.\nInviting just one other artist to share the booth each week\, this night is firmly focused on the musical flow and has become a mecca for fans of more underground quality sounds.\nBringing music lovers together from across the globe\, the line-ups are always impeccable\, the dancefloors are made for your feet\, and you really haven’t experienced Ibiza until you’ve been lost at least once in the maze around the back of the Pacha Ibiza VIP. Guaranteed to be a roadblock. \nREAD MORE ABOUT PACHA IBIZA ON WHITE IBIZA \nBOOK VIP TABLES & TICKETS TO SOLOMUN + 1 AT PACHA IBIZA
URL:https://white-ibiza.com/ibiza-calendar/solomun-1-at-pacha-ibiza/2024-07-28/
LOCATION:Pacha Ibiza\, Avinguda 8 d'Agost\, Eivissa\, Islas Baleares\, 07800\, Spain
CATEGORIES:Clubs
ATTACH;FMTTYPE=image/jpeg:https://white-ibiza.com/wp-content/uploads/2024/07/white-ibiza-club-calendar-solomun-plus-one-pacha-iiza-2024.jpeg
GEO:38.9177309;1.4446226
X-APPLE-STRUCTURED-LOCATION;VALUE=URI;X-ADDRESS=Pacha Ibiza Avinguda 8 d'Agost Eivissa Islas Baleares 07800 Spain;X-APPLE-RADIUS=500;X-TITLE=Avinguda 8 d'Agost:geo:1.4446226,38.9177309
END:VEVENT
END:VCALENDAR